BEGIN:VCALENDAR
VERSION:2.0
PRODID:-//Shark Stewards - ECPv6.15.20//NONSGML v1.0//EN
CALSCALE:GREGORIAN
METHOD:PUBLISH
X-ORIGINAL-URL:https://sharkstewards.org
X-WR-CALDESC:Events for Shark Stewards
REFRESH-INTERVAL;VALUE=DURATION:PT1H
X-Robots-Tag:noindex
X-PUBLISHED-TTL:PT1H
BEGIN:VTIMEZONE
TZID:America/Los_Angeles
BEGIN:DAYLIGHT
TZOFFSETFROM:-0800
TZOFFSETTO:-0700
TZNAME:PDT
DTSTART:20250309T100000
END:DAYLIGHT
BEGIN:STANDARD
TZOFFSETFROM:-0700
TZOFFSETTO:-0800
TZNAME:PST
DTSTART:20251102T090000
END:STANDARD
BEGIN:DAYLIGHT
TZOFFSETFROM:-0800
TZOFFSETTO:-0700
TZNAME:PDT
DTSTART:20260308T100000
END:DAYLIGHT
BEGIN:STANDARD
TZOFFSETFROM:-0700
TZOFFSETTO:-0800
TZNAME:PST
DTSTART:20261101T090000
END:STANDARD
BEGIN:DAYLIGHT
TZOFFSETFROM:-0800
TZOFFSETTO:-0700
TZNAME:PDT
DTSTART:20270314T100000
END:DAYLIGHT
BEGIN:STANDARD
TZOFFSETFROM:-0700
TZOFFSETTO:-0800
TZNAME:PST
DTSTART:20271107T090000
END:STANDARD
END:VTIMEZONE
BEGIN:VEVENT
DTSTART;TZID=America/Los_Angeles:20260506T163000
DTEND;TZID=America/Los_Angeles:20260506T193000
DTSTAMP:20260423T044132
CREATED:20260421T013745Z
LAST-MODIFIED:20260421T013745Z
UID:31532-1778085000-1778095800@sharkstewards.org
SUMMARY:STEM Fest Oakland
DESCRIPTION:Join the Shark Stewards team engaging and educating youth on sharks and ocean health. Learn about our Aquatic Park Stewards program and how you can get involved. \n\n\n\n\n\n\n\n\n\n\n2026 OUSD STEM Fair \nOakland Coliseum\nWed.\, May 6\, 2026\n\n\n\n\n\n\n\n4:30 – 7:30 PM\nThere will be hands-on activities\, robotics demonstrations\, food\, music\, and hundreds of student projects from across our district on display…maybe even yours!!  \nWe hope to see you there! \n\n\n\n\n\n\n\n\n\n\n\n\n\n\n\n\n\nClick here to read the 2026 STEM Fair Participation Guidelines to learn more about STEM Fair Projects.   \n\n\n\n\n\n\n\n\n\n\n\n\n\n\n\n\n\n\n\n\n\n\n\n\n\n\n\n\n\n\n\n\n\n\n\n\n\n\n\n\n\n\n\nThis is a celebration of the STEM learning that happens in OUSD schools. For most elementary schools\, this looks like a science fair in which students put together “final drafts” of science investigations on a display board\, or complete investigations that are extensions of the learning that happens every week as part of the FOSS Science Curriculum\, the award-winning curriculum from the Lawrence Hall of Science at UC Berkeley for which every TK-8 class receives materials kits for hands-on science.  \nAt the middle and high school levels\, projects represent the learning that happens in core math and science classes\, as well as STEM electives\, such as computer science\, engineering\, health and bioscience\, architecture\, and more. As projects become more complex\, many students student more time outside of class finishing their projects. 
URL:https://sharkstewards.org/event/stem-fest-oakland/
LOCATION:Oakkand Coliseum\, 7000 S Coliseum Wy\, Oakland\, CA\, 94621\, United States
CATEGORIES:Community,Education
ATTACH;FMTTYPE=image/jpeg:https://sharkstewards.org/wp-content/uploads/2025/02/Katya-Demonstrating-Science-1-1.jpg
END:VEVENT
END:VCALENDAR